BEGIN:VCALENDAR
VERSION:2.0
PRODID:-//Ballymun4business - ECPv4.5.8//NONSGML v1.0//EN
CALSCALE:GREGORIAN
METHOD:PUBLISH
X-WR-CALNAME:Ballymun4business
X-ORIGINAL-URL:https://b4b.ie
X-WR-CALDESC:Events for Ballymun4business
BEGIN:VEVENT
DTSTART;TZID=UTC+0:20171109T140000
DTEND;TZID=UTC+0:20171109T180000
DTSTAMP:20171107T151158
CREATED:20171102T165510Z
LAST-MODIFIED:20171102T165510Z
UID:1352-1510236000-1510250400@b4b.ie
SUMMARY:Ballymun Plaza - Public Consultation
DESCRIPTION:Ballymun needs you!\n….. to make ‘Cearnóg an tSeachtar Laoch’ a better place… \nCome along to a public consultation \nand have your say on how you would like the Ballymun Plaza to look in the future \nPublic Consultation \nCivic Centre\, Ballymun \n‘Member’s Room’\, First Floor \nThursday 9th November 2017 \n2.00 – 6.00pm \nAECOM have been appointed by Dublin City Council to re-design Cearnóg an tSeachtar Laoch (Seven Heroes Square) \n
URL:https://b4b.ie/event/ballymun-plaza-public-consultation/
LOCATION:The Ballymun Civic Centre\, Main Road\, Ballymun\, Dublin-9\, Dublin\, Ireland
ATTACH;FMTTYPE=image/jpeg:https://b4b.ie/2017/wp-content/uploads/2017/11/Ballymun-Flyer-RevA.jpg
END:VEVENT
END:VCALENDAR