BEGIN:VCALENDAR
VERSION:2.0
PRODID:-//Ballymun4business - ECPv4.5.8//NONSGML v1.0//EN
CALSCALE:GREGORIAN
METHOD:PUBLISH
X-WR-CALNAME:Ballymun4business
X-ORIGINAL-URL:https://b4b.ie
X-WR-CALDESC:Events for Ballymun4business
BEGIN:VEVENT
DTSTART;TZID=UTC+0:20170517T140000
DTEND;TZID=UTC+0:20170517T153000
DTSTAMP:20171030T194409
CREATED:20170502T090242Z
LAST-MODIFIED:20170502T090242Z
UID:993-1495029600-1495035000@b4b.ie
SUMMARY:Ballymun Business Watch Meeting of 2017
DESCRIPTION:This is a local event and all local businesses are welcome.\nPlease RSVP Anita Branagan at Ballymun.community@garda.ie \n
URL:https://b4b.ie/event/ballymun-business-watch-meeting-of-2017/
LOCATION:1st Floor\, Ballymun Civic Centre\, Dublin\, Ireland
CATEGORIES:Business Watch
ORGANIZER;CN="Anita%20Branagan":MAILTO:Ballymun.community@garda.ie
END:VEVENT
END:VCALENDAR